BEGIN:VCALENDAR
VERSION:2.0
PRODID:-//Thames Ditton Cricket Club - ECPv6.11.0.1//NONSGML v1.0//EN
CALSCALE:GREGORIAN
METHOD:PUBLISH
X-WR-CALNAME:Thames Ditton Cricket Club
X-ORIGINAL-URL:https://www.thamesdittoncricketclub.co.uk
X-WR-CALDESC:Events for Thames Ditton Cricket Club
REFRESH-INTERVAL;VALUE=DURATION:PT1H
X-Robots-Tag:noindex
X-PUBLISHED-TTL:PT1H
BEGIN:VTIMEZONE
TZID:Europe/London
BEGIN:DAYLIGHT
TZOFFSETFROM:+0000
TZOFFSETTO:+0100
TZNAME:BST
DTSTART:20190331T010000
END:DAYLIGHT
BEGIN:STANDARD
TZOFFSETFROM:+0100
TZOFFSETTO:+0000
TZNAME:GMT
DTSTART:20191027T010000
END:STANDARD
END:VTIMEZONE
BEGIN:VEVENT
DTSTART;TZID=Europe/London:20190601T130000
DTEND;TZID=Europe/London:20190601T130000
DTSTAMP:20260425T205118
CREATED:20190316T090309Z
LAST-MODIFIED:20190316T090309Z
UID:2807-1559394000-1559394000@www.thamesdittoncricketclub.co.uk
SUMMARY:3rd XI - Whiteley Village CC
DESCRIPTION:League: Surrey Championship – Division 3 West 2019
URL:https://www.thamesdittoncricketclub.co.uk/event/3rd-xi-whiteley-village-cc/
LOCATION:Whiteley Village Cricket Ground\, Coombe Lane\, Whiteley Village\, Surrey
CATEGORIES:Senior Fixtures
END:VEVENT
BEGIN:VEVENT
DTSTART;TZID=Europe/London:20190601T130000
DTEND;TZID=Europe/London:20190601T130000
DTSTAMP:20260425T205118
CREATED:20190313T213320Z
LAST-MODIFIED:20190501T051119Z
UID:2706-1559394000-1559394000@www.thamesdittoncricketclub.co.uk
SUMMARY:1st XI - Merrow CC
DESCRIPTION:Type: League: Surrey County League – 1st XI Premier 2019
URL:https://www.thamesdittoncricketclub.co.uk/event/1st-xi-merrow-cc/
LOCATION:TDCC\, Giggs Hill Rd\, Thames Ditton\, Surrey\, KT7 0BT
CATEGORIES:1st XI,Senior Fixtures
END:VEVENT
BEGIN:VEVENT
DTSTART;TZID=Europe/London:20190601T120000
DTEND;TZID=Europe/London:20190601T120000
DTSTAMP:20260425T205118
CREATED:20190314T214439Z
LAST-MODIFIED:20190314T214439Z
UID:2757-1559390400-1559390400@www.thamesdittoncricketclub.co.uk
SUMMARY:2nd XI - Merrow CC
DESCRIPTION:Type: League: Surrey Championship – Division 5 – 2nd XI 2019
URL:https://www.thamesdittoncricketclub.co.uk/event/2nd-xi-merrow-cc/
LOCATION:Merrow CC\, Epsom Road\, Merrow\, Guldford
CATEGORIES:Senior Fixtures
END:VEVENT
BEGIN:VEVENT
DTSTART;TZID=Europe/London:20190601T100000
DTEND;TZID=Europe/London:20190601T100000
DTSTAMP:20260425T205118
CREATED:20190411T155908Z
LAST-MODIFIED:20190411T155908Z
UID:3089-1559383200-1559383200@www.thamesdittoncricketclub.co.uk
SUMMARY:U13 WSYCL - Ewell CC
DESCRIPTION:League: West Surrey Youth Cricket League – Under 13 WSYCL North East 2019
URL:https://www.thamesdittoncricketclub.co.uk/event/u13-wsycl-ewell-cc/
LOCATION:Old Tiffinians
CATEGORIES:Colts Fixtures
END:VEVENT
BEGIN:VEVENT
DTSTART;TZID=Europe/London:20190526T140000
DTEND;TZID=Europe/London:20190526T140000
DTSTAMP:20260425T205118
CREATED:20190411T155201Z
LAST-MODIFIED:20190418T132722Z
UID:3082-1558879200-1558879200@www.thamesdittoncricketclub.co.uk
SUMMARY:U13 WSYCL - Weybridge CC Under 14 Girls White
DESCRIPTION:League: West Surrey Youth Cricket League – Under 13 WSYCL North East 2019 \nSt George’s College – Farm Field Pitch
URL:https://www.thamesdittoncricketclub.co.uk/event/u13-wsycl-weybridge-cc-under-14-girls-white/
LOCATION:Surrey
CATEGORIES:Colts Fixtures
END:VEVENT
BEGIN:VEVENT
DTSTART;TZID=Europe/London:20190525T130000
DTEND;TZID=Europe/London:20190525T130000
DTSTAMP:20260425T205118
CREATED:20190317T223510Z
LAST-MODIFIED:20190317T223510Z
UID:2881-1558789200-1558789200@www.thamesdittoncricketclub.co.uk
SUMMARY:4th XI - Staines & Laleham CC
DESCRIPTION:League: Surrey Championship – Division 5 West 2019
URL:https://www.thamesdittoncricketclub.co.uk/event/4th-xi-staines-laleham-cc/
LOCATION:Faulkners\, Staines & Laleham\, Worple Road\, Middlesex\, TW18 1HR
CATEGORIES:Senior Fixtures
END:VEVENT
BEGIN:VEVENT
DTSTART;TZID=Europe/London:20190525T130000
DTEND;TZID=Europe/London:20190525T130000
DTSTAMP:20260425T205118
CREATED:20190316T090040Z
LAST-MODIFIED:20190316T090040Z
UID:2805-1558789200-1558789200@www.thamesdittoncricketclub.co.uk
SUMMARY:3rd XI - Teddington Town CC
DESCRIPTION:League: Surrey Championship – Division 3 West 2019
URL:https://www.thamesdittoncricketclub.co.uk/event/3rd-xi-teddington-town-cc/
LOCATION:Old Tiffinians
CATEGORIES:Senior Fixtures
END:VEVENT
BEGIN:VEVENT
DTSTART;TZID=Europe/London:20190525T130000
DTEND;TZID=Europe/London:20190525T130000
DTSTAMP:20260425T205118
CREATED:20190313T212830Z
LAST-MODIFIED:20190501T051126Z
UID:2697-1558789200-1558789200@www.thamesdittoncricketclub.co.uk
SUMMARY:1st XI - Long Ditton CC
DESCRIPTION:
URL:https://www.thamesdittoncricketclub.co.uk/event/1st-xi-long-ditton-cc/
LOCATION:Long Ditton CC\, Stokes Field\, Betts Way\, Long Ditton\, Long Ditton\, KT6 5HT
CATEGORIES:1st XI,Senior Fixtures
END:VEVENT
BEGIN:VEVENT
DTSTART;TZID=Europe/London:20190525T120000
DTEND;TZID=Europe/London:20190525T120000
DTSTAMP:20260425T205118
CREATED:20190314T205548Z
LAST-MODIFIED:20190314T205548Z
UID:2755-1558785600-1558785600@www.thamesdittoncricketclub.co.uk
SUMMARY:2nd XI - Cobham Avorians CC
DESCRIPTION:Type: League: Surrey Championship – Division 5 – 2nd XI 2019
URL:https://www.thamesdittoncricketclub.co.uk/event/2nd-xi-cobham-avorians-cc/
LOCATION:TDCC\, Giggs Hill Rd\, Thames Ditton\, Surrey\, KT7 0BT
CATEGORIES:Senior Fixtures
END:VEVENT
BEGIN:VEVENT
DTSTART;TZID=Europe/London:20190524T180000
DTEND;TZID=Europe/London:20190524T180000
DTSTAMP:20260425T205119
CREATED:20190429T062558Z
LAST-MODIFIED:20190429T062558Z
UID:3154-1558720800-1558720800@www.thamesdittoncricketclub.co.uk
SUMMARY:U12 WSYCL - Walton on Thames CC
DESCRIPTION:League: West Surrey Youth Cricket League – Under 12 WSYCL North 2019
URL:https://www.thamesdittoncricketclub.co.uk/event/u12-wsycl-walton-on-thames-cc/
LOCATION:Ashley Park\, Walton on Thames\, KT12 1ET
CATEGORIES:Colts Fixtures
END:VEVENT
BEGIN:VEVENT
DTSTART;TZID=Europe/London:20190521T180000
DTEND;TZID=Europe/London:20190521T180000
DTSTAMP:20260425T205119
CREATED:20190418T134721Z
LAST-MODIFIED:20190418T134721Z
UID:3123-1558461600-1558461600@www.thamesdittoncricketclub.co.uk
SUMMARY:U13 Development - East Molesey CC
DESCRIPTION:League: West Surrey Youth Cricket League – Under 13 Development North 2019
URL:https://www.thamesdittoncricketclub.co.uk/event/u13-development-east-molesey-cc/
LOCATION:Graburn Way\, Memorial Cricket Ground\, Graburn Way\, East Molesey\, KT8 9AL
CATEGORIES:Colts Fixtures
END:VEVENT
BEGIN:VEVENT
DTSTART;TZID=Europe/London:20190519T100000
DTEND;TZID=Europe/London:20190519T100000
DTSTAMP:20260425T205119
CREATED:20190429T135258Z
LAST-MODIFIED:20190429T135258Z
UID:3175-1558260000-1558260000@www.thamesdittoncricketclub.co.uk
SUMMARY:U12 Development - Teddington CC
DESCRIPTION:League: West Surrey Youth Cricket League – Under 12 Development North East 2019
URL:https://www.thamesdittoncricketclub.co.uk/event/u12-development-teddington-cc/
LOCATION:Bushy Park\, High Street\, Hampton Hill\, Hampton\, Middlesex\, TW12
CATEGORIES:Colts Fixtures
END:VEVENT
BEGIN:VEVENT
DTSTART;TZID=Europe/London:20190519T100000
DTEND;TZID=Europe/London:20190519T100000
DTSTAMP:20260425T205119
CREATED:20190411T154914Z
LAST-MODIFIED:20190411T155658Z
UID:3080-1558260000-1558260000@www.thamesdittoncricketclub.co.uk
SUMMARY:U13 WSYCL - Whiteley Village CC
DESCRIPTION:League: West Surrey Youth Cricket League – Under 13 WSYCL North East 2019
URL:https://www.thamesdittoncricketclub.co.uk/event/u13-wsycl-whiteley-village-cc/
LOCATION:Old Tiffinians
CATEGORIES:Colts Fixtures
END:VEVENT
BEGIN:VEVENT
DTSTART;TZID=Europe/London:20190518T130000
DTEND;TZID=Europe/London:20190518T130000
DTSTAMP:20260425T205119
CREATED:20190316T131047Z
LAST-MODIFIED:20190316T131047Z
UID:2846-1558184400-1558184400@www.thamesdittoncricketclub.co.uk
SUMMARY:4th XI - Walton on Thames CC
DESCRIPTION:League: Surrey Championship – Division 5 West 2019
URL:https://www.thamesdittoncricketclub.co.uk/event/4th-xi-walton-on-thames-cc/
LOCATION:Old Paulines\, St Nicholas Road\, Thames Ditton\, Surrey\, KT7 0PW
CATEGORIES:Senior Fixtures
END:VEVENT
BEGIN:VEVENT
DTSTART;TZID=Europe/London:20190518T130000
DTEND;TZID=Europe/London:20190518T130000
DTSTAMP:20260425T205119
CREATED:20190316T085856Z
LAST-MODIFIED:20190316T085906Z
UID:2802-1558184400-1558184400@www.thamesdittoncricketclub.co.uk
SUMMARY:3rd XI - Shepperton CC
DESCRIPTION:League: Surrey Championship – Division 3 West 2019
URL:https://www.thamesdittoncricketclub.co.uk/event/3rd-xi-shepperton-cc/
LOCATION:Halliford School Pitch\, Church Road\, Shepperton\, Surrey
CATEGORIES:Senior Fixtures
END:VEVENT
BEGIN:VEVENT
DTSTART;TZID=Europe/London:20190518T130000
DTEND;TZID=Europe/London:20190518T130000
DTSTAMP:20260425T205119
CREATED:20190121T161308Z
LAST-MODIFIED:20190501T051133Z
UID:2208-1558184400-1558184400@www.thamesdittoncricketclub.co.uk
SUMMARY:1st XI -  Guildford City CC
DESCRIPTION:Type: League: Surrey County League – 1st XI Premier 2019
URL:https://www.thamesdittoncricketclub.co.uk/event/1st-xi-guildford-city-cc/
LOCATION:TDCC\, Giggs Hill Rd\, Thames Ditton\, Surrey\, KT7 0BT
CATEGORIES:1st XI,Senior Fixtures
END:VEVENT
BEGIN:VEVENT
DTSTART;TZID=Europe/London:20190518T080000
DTEND;TZID=Europe/London:20190518T080000
DTSTAMP:20260425T205119
CREATED:20190314T205349Z
LAST-MODIFIED:20190314T205349Z
UID:2752-1558166400-1558166400@www.thamesdittoncricketclub.co.uk
SUMMARY:2nd XI - Old Pauline CC
DESCRIPTION:Type: League: Surrey Championship – Division 5 – 2nd XI 2019
URL:https://www.thamesdittoncricketclub.co.uk/event/2nd-xi-old-pauline-cc/
LOCATION:Old Pauline Cricket Club
CATEGORIES:Senior Fixtures
END:VEVENT
BEGIN:VEVENT
DTSTART;TZID=Europe/London:20190512T113000
DTEND;TZID=Europe/London:20190512T113000
DTSTAMP:20260425T205119
CREATED:20190411T154715Z
LAST-MODIFIED:20190411T155704Z
UID:3078-1557660600-1557660600@www.thamesdittoncricketclub.co.uk
SUMMARY:U13 WSYCL - Spencer CC
DESCRIPTION:League: West Surrey Youth Cricket League – Under 13 WSYCL North East 2019 \nSt George’s College – Farm Field Pitch
URL:https://www.thamesdittoncricketclub.co.uk/event/u13-wsycl-spencer-cc/
LOCATION:Surrey
CATEGORIES:Colts Fixtures
END:VEVENT
BEGIN:VEVENT
DTSTART;TZID=Europe/London:20190512T100000
DTEND;TZID=Europe/London:20190512T100000
DTSTAMP:20260425T205119
CREATED:20190418T134527Z
LAST-MODIFIED:20190418T134527Z
UID:3120-1557655200-1557655200@www.thamesdittoncricketclub.co.uk
SUMMARY:U13 Development - Ottershaw & Hamm Moor CC
DESCRIPTION:League: West Surrey Youth Cricket League – Under 13 Development North 2019
URL:https://www.thamesdittoncricketclub.co.uk/event/u13-development-ottershaw-hamm-moor-cc/
LOCATION:Ottershaw
CATEGORIES:Colts Fixtures
END:VEVENT
BEGIN:VEVENT
DTSTART;TZID=Europe/London:20190511T130000
DTEND;TZID=Europe/London:20190511T130000
DTSTAMP:20260425T205119
CREATED:20190316T130741Z
LAST-MODIFIED:20190316T130741Z
UID:2844-1557579600-1557579600@www.thamesdittoncricketclub.co.uk
SUMMARY:4th XI - Kempton CC
DESCRIPTION:League: Surrey Championship – Division 5 West 2019
URL:https://www.thamesdittoncricketclub.co.uk/event/4th-xi-kempton-cc/
LOCATION:Kempton C.C.\, The Sports Ground\, Kempton Avenue\, Sunbury-on-Thames\, Middlesex\, TW16 5NG
CATEGORIES:Senior Fixtures
END:VEVENT
BEGIN:VEVENT
DTSTART;TZID=Europe/London:20190511T130000
DTEND;TZID=Europe/London:20190511T130000
DTSTAMP:20260425T205119
CREATED:20190316T085536Z
LAST-MODIFIED:20190316T085536Z
UID:2799-1557579600-1557579600@www.thamesdittoncricketclub.co.uk
SUMMARY:3rd XI - Kempton CC
DESCRIPTION:League: Surrey Championship – Division 3 West 2019
URL:https://www.thamesdittoncricketclub.co.uk/event/3rd-xi-kempton-cc/
LOCATION:Old Tiffinians
CATEGORIES:Senior Fixtures
END:VEVENT
BEGIN:VEVENT
DTSTART;TZID=Europe/London:20190511T130000
DTEND;TZID=Europe/London:20190511T130000
DTSTAMP:20260425T205119
CREATED:20190121T161139Z
LAST-MODIFIED:20190501T051140Z
UID:2205-1557579600-1557579600@www.thamesdittoncricketclub.co.uk
SUMMARY:1st XI - Godalming CC
DESCRIPTION:Type: League: Surrey County League – 1st XI Premier 2019
URL:https://www.thamesdittoncricketclub.co.uk/event/1st-xi-godalming-cc/
LOCATION:Holloway Hill\, Busbridge Lane\, Surrey\, GU7 1QD
CATEGORIES:1st XI,Senior Fixtures
END:VEVENT
BEGIN:VEVENT
DTSTART;TZID=Europe/London:20190511T120000
DTEND;TZID=Europe/London:20190511T120000
DTSTAMP:20260425T205119
CREATED:20190314T205006Z
LAST-MODIFIED:20190314T205006Z
UID:2748-1557576000-1557576000@www.thamesdittoncricketclub.co.uk
SUMMARY:2nd XI - Hampton Hill CC
DESCRIPTION:Type: League: Surrey Championship – Division 5 – 2nd XI 2019
URL:https://www.thamesdittoncricketclub.co.uk/event/2nd-xi-hampton-hill-cc/
LOCATION:TDCC\, Giggs Hill Rd\, Thames Ditton\, Surrey\, KT7 0BT
CATEGORIES:Senior Fixtures
END:VEVENT
BEGIN:VEVENT
DTSTART;TZID=Europe/London:20190510T180000
DTEND;TZID=Europe/London:20190510T180000
DTSTAMP:20260425T205119
CREATED:20190429T134941Z
LAST-MODIFIED:20190429T135500Z
UID:3173-1557511200-1557511200@www.thamesdittoncricketclub.co.uk
SUMMARY:U12 Development - Claygate CC
DESCRIPTION:League: West Surrey Youth Cricket League – Under 12 Development North East 2019
URL:https://www.thamesdittoncricketclub.co.uk/event/u12-development-claygate-cc/
LOCATION:Claygate Cricket Club\, Claygate Recreation Ground\, Church Road\, Claygate\, KT10 0JP
CATEGORIES:Colts Fixtures
END:VEVENT
BEGIN:VEVENT
DTSTART;TZID=Europe/London:20190504T130000
DTEND;TZID=Europe/London:20190504T130000
DTSTAMP:20260425T205119
CREATED:20190121T155829Z
LAST-MODIFIED:20190501T051248Z
UID:2193-1556974800-1556974800@www.thamesdittoncricketclub.co.uk
SUMMARY:1st XI - Chaldon CMO CC
DESCRIPTION:Type: League: Surrey County League – 1st XI Premier 2019
URL:https://www.thamesdittoncricketclub.co.uk/event/1st-xi-chaldon-cmo-cc/
LOCATION:Surrey
CATEGORIES:1st XI,Senior Fixtures
END:VEVENT
BEGIN:VEVENT
DTSTART;TZID=Europe/London:20190427T130000
DTEND;TZID=Europe/London:20190427T130000
DTSTAMP:20260425T205119
CREATED:20190303T222002Z
LAST-MODIFIED:20190314T204632Z
UID:2612-1556370000-1556370000@www.thamesdittoncricketclub.co.uk
SUMMARY:2nd XI - Shepperton CC
DESCRIPTION:Type: Friendly
URL:https://www.thamesdittoncricketclub.co.uk/event/2nd-xi-shepperton-cc/
LOCATION:Shepperton C.C.\, Manor Park\, Russell Road\, Shepperton\, Middlesex\, TW17 9HQ
CATEGORIES:Senior Fixtures
END:VEVENT
BEGIN:VEVENT
DTSTART;TZID=Europe/London:20190427T130000
DTEND;TZID=Europe/London:20190427T130000
DTSTAMP:20260425T205119
CREATED:20190121T155511Z
LAST-MODIFIED:20190501T051255Z
UID:2191-1556370000-1556370000@www.thamesdittoncricketclub.co.uk
SUMMARY:1st XI - Morden CC
DESCRIPTION:Type: Friendly
URL:https://www.thamesdittoncricketclub.co.uk/event/1st-xi-morden-cc/
LOCATION:TDCC\, Giggs Hill Rd\, Thames Ditton\, Surrey\, KT7 0BT
CATEGORIES:1st XI,Senior Fixtures
END:VEVENT
BEGIN:VEVENT
DTSTART;TZID=Europe/London:20190420T130000
DTEND;TZID=Europe/London:20190420T130000
DTSTAMP:20260425T205119
CREATED:20181207T160854Z
LAST-MODIFIED:20190501T051302Z
UID:1458-1555765200-1555765200@www.thamesdittoncricketclub.co.uk
SUMMARY:1st XI - Shepperton CC
DESCRIPTION:Type: Friendly
URL:https://www.thamesdittoncricketclub.co.uk/event/1st-xi-shepperton-cc/
LOCATION:Shepperton C.C.\, Manor Park\, Russell Road\, Shepperton\, Middlesex\, TW17 9HQ
CATEGORIES:1st XI,Senior Fixtures
END:VEVENT
BEGIN:VEVENT
DTSTART;TZID=Europe/London:20190413T130000
DTEND;TZID=Europe/London:20190413T130000
DTSTAMP:20260425T205119
CREATED:20190115T161533Z
LAST-MODIFIED:20190314T204539Z
UID:2031-1555160400-1555160400@www.thamesdittoncricketclub.co.uk
SUMMARY:2nd XI - Long Ditton CC
DESCRIPTION:Type: Friendly
URL:https://www.thamesdittoncricketclub.co.uk/event/2nd-xi-long-ditton-cc/
LOCATION:TDCC\, Giggs Hill Rd\, Thames Ditton\, Surrey\, KT7 0BT
CATEGORIES:Senior Fixtures
END:VEVENT
END:VCALENDAR