BEGIN:VCALENDAR
VERSION:2.0
PRODID:-//Thames Ditton Cricket Club - ECPv6.11.0.1//NONSGML v1.0//EN
CALSCALE:GREGORIAN
METHOD:PUBLISH
X-ORIGINAL-URL:https://www.thamesdittoncricketclub.co.uk
X-WR-CALDESC:Events for Thames Ditton Cricket Club
REFRESH-INTERVAL;VALUE=DURATION:PT1H
X-Robots-Tag:noindex
X-PUBLISHED-TTL:PT1H
BEGIN:VTIMEZONE
TZID:Europe/London
BEGIN:DAYLIGHT
TZOFFSETFROM:+0000
TZOFFSETTO:+0100
TZNAME:BST
DTSTART:20190331T010000
END:DAYLIGHT
BEGIN:STANDARD
TZOFFSETFROM:+0100
TZOFFSETTO:+0000
TZNAME:GMT
DTSTART:20191027T010000
END:STANDARD
END:VTIMEZONE
BEGIN:VEVENT
DTSTART;TZID=Europe/London:20190719T180000
DTEND;TZID=Europe/London:20190719T180000
DTSTAMP:20260425T134024
CREATED:20190429T103822Z
LAST-MODIFIED:20190429T103822Z
UID:3166-1563559200-1563559200@www.thamesdittoncricketclub.co.uk
SUMMARY:U12 WSYCL - Chobham CC
DESCRIPTION:League: West Surrey Youth Cricket League – Under 12 WSYCL North 2019
URL:https://www.thamesdittoncricketclub.co.uk/event/u12-wsycl-chobham-cc/
LOCATION:TDCC\, Giggs Hill Rd\, Thames Ditton\, Surrey\, KT7 0BT
CATEGORIES:Colts Fixtures
END:VEVENT
BEGIN:VEVENT
DTSTART;TZID=Europe/London:20190713T180000
DTEND;TZID=Europe/London:20190713T180000
DTSTAMP:20260425T134024
CREATED:20190607T070134Z
LAST-MODIFIED:20190607T071524Z
UID:3279-1563040800-1563040800@www.thamesdittoncricketclub.co.uk
SUMMARY:French Night – 220 years of Revolution
DESCRIPTION:As usual our own favourite Frenchman\, Francois will be hosting an evening of fine wines and French delicacies. It is a great night\, so please do make a note.
URL:https://www.thamesdittoncricketclub.co.uk/event/french-night-220-years-of-revolution/
LOCATION:TDCC\, Giggs Hill Rd\, Thames Ditton\, Surrey\, KT7 0BT
CATEGORIES:Events
END:VEVENT
BEGIN:VEVENT
DTSTART;TZID=Europe/London:20190713T130000
DTEND;TZID=Europe/London:20190713T130000
DTSTAMP:20260425T134024
CREATED:20190317T224657Z
LAST-MODIFIED:20190317T224657Z
UID:2898-1563022800-1563022800@www.thamesdittoncricketclub.co.uk
SUMMARY:4th XI - Kempton CC
DESCRIPTION:League: Surrey Championship – Division 5 West 2019
URL:https://www.thamesdittoncricketclub.co.uk/event/4th-xi-kempton-cc-2/
LOCATION:Old Paulines\, St Nicholas Road\, Thames Ditton\, Surrey\, KT7 0PW
CATEGORIES:Senior Fixtures
END:VEVENT
BEGIN:VEVENT
DTSTART;TZID=Europe/London:20190713T130000
DTEND;TZID=Europe/London:20190713T130000
DTSTAMP:20260425T134024
CREATED:20190316T125206Z
LAST-MODIFIED:20190316T125206Z
UID:2822-1563022800-1563022800@www.thamesdittoncricketclub.co.uk
SUMMARY:3rd XI - Kempton CC
DESCRIPTION:League: Surrey Championship – Division 3 West 2019
URL:https://www.thamesdittoncricketclub.co.uk/event/3rd-xi-kempton-cc-2/
LOCATION:Kempton C.C.\, The Sports Ground\, Kempton Avenue\, Sunbury-on-Thames\, Middlesex\, TW16 5NG
CATEGORIES:Senior Fixtures
END:VEVENT
BEGIN:VEVENT
DTSTART;TZID=Europe/London:20190713T120000
DTEND;TZID=Europe/London:20190713T120000
DTSTAMP:20260425T134024
CREATED:20190314T222635Z
LAST-MODIFIED:20190314T222720Z
UID:2777-1563019200-1563019200@www.thamesdittoncricketclub.co.uk
SUMMARY:2nd XI - Hampton Hill CC
DESCRIPTION:Type: League: Surrey Championship – Division 5 – 2nd XI 2019
URL:https://www.thamesdittoncricketclub.co.uk/event/2nd-xi-hampton-hill-cc-2/
LOCATION:Bushy Park\, High Street\, Hampton Hill\, Hampton\, Middlesex\, TW12
CATEGORIES:Senior Fixtures
END:VEVENT
BEGIN:VEVENT
DTSTART;TZID=Europe/London:20190713T080000
DTEND;TZID=Europe/London:20190713T080000
DTSTAMP:20260425T134024
CREATED:20190313T220726Z
LAST-MODIFIED:20190501T051039Z
UID:2727-1563004800-1563004800@www.thamesdittoncricketclub.co.uk
SUMMARY:1st XI - Godalming CC
DESCRIPTION:Type: League: Surrey County League – 1st XI Premier 2019
URL:https://www.thamesdittoncricketclub.co.uk/event/1st-xi-godalming-cc-2/
LOCATION:TDCC\, Giggs Hill Rd\, Thames Ditton\, Surrey\, KT7 0BT
CATEGORIES:1st XI,Senior Fixtures
END:VEVENT
BEGIN:VEVENT
DTSTART;TZID=Europe/London:20190712T180000
DTEND;TZID=Europe/London:20190712T180000
DTSTAMP:20260425T134024
CREATED:20190418T134054Z
LAST-MODIFIED:20190418T134054Z
UID:3118-1562954400-1562954400@www.thamesdittoncricketclub.co.uk
SUMMARY:U13 WSYCL - Weybridge CC
DESCRIPTION:League: West Surrey Youth Cricket League – Under 13 WSYCL North East 2019
URL:https://www.thamesdittoncricketclub.co.uk/event/u13-wsycl-weybridge-cc/
LOCATION:TDCC\, Giggs Hill Rd\, Thames Ditton\, Surrey\, KT7 0BT
CATEGORIES:Colts Fixtures
END:VEVENT
BEGIN:VEVENT
DTSTART;TZID=Europe/London:20190708T180000
DTEND;TZID=Europe/London:20190708T180000
DTSTAMP:20260425T134024
CREATED:20190429T102746Z
LAST-MODIFIED:20190429T102746Z
UID:3164-1562608800-1562608800@www.thamesdittoncricketclub.co.uk
SUMMARY:U12 WSYCL - Sunbury CC
DESCRIPTION:League: West Surrey Youth Cricket League – Under 12 WSYCL North 2019
URL:https://www.thamesdittoncricketclub.co.uk/event/u12-wsycl-sunbury-cc/
LOCATION:Old Tiffinians
CATEGORIES:Colts Fixtures
END:VEVENT
BEGIN:VEVENT
DTSTART;TZID=Europe/London:20190707T100000
DTEND;TZID=Europe/London:20190707T100000
DTSTAMP:20260425T134024
CREATED:20190418T135120Z
LAST-MODIFIED:20190418T135120Z
UID:3131-1562493600-1562493600@www.thamesdittoncricketclub.co.uk
SUMMARY:U13 Development - Spelthorne Sports CC
DESCRIPTION:League: West Surrey Youth Cricket League – Under 13 Development North 2019
URL:https://www.thamesdittoncricketclub.co.uk/event/u13-development-spelthorne-sports-cc/
LOCATION:Spelthorne Sports Club\, 296 Staines Road West\, Ashford Common\, TW15 1RY
CATEGORIES:Colts Fixtures
END:VEVENT
BEGIN:VEVENT
DTSTART;TZID=Europe/London:20190706T130000
DTEND;TZID=Europe/London:20190706T130000
DTSTAMP:20260425T134024
CREATED:20190317T224446Z
LAST-MODIFIED:20190317T224455Z
UID:2896-1562418000-1562418000@www.thamesdittoncricketclub.co.uk
SUMMARY:4th XI - Malden Wanderers CC
DESCRIPTION:League: Surrey Championship – Division 5 West 2019
URL:https://www.thamesdittoncricketclub.co.uk/event/4th-xi-malden-wanderers-cc/
LOCATION:Old Paulines\, St Nicholas Road\, Thames Ditton\, Surrey\, KT7 0PW
CATEGORIES:Senior Fixtures
END:VEVENT
BEGIN:VEVENT
DTSTART;TZID=Europe/London:20190706T130000
DTEND;TZID=Europe/London:20190706T130000
DTSTAMP:20260425T134024
CREATED:20190316T125006Z
LAST-MODIFIED:20190316T125006Z
UID:2820-1562418000-1562418000@www.thamesdittoncricketclub.co.uk
SUMMARY:3rd XI - Kingstonian CC
DESCRIPTION:League: Surrey Championship – Division 3 West 2019
URL:https://www.thamesdittoncricketclub.co.uk/event/3rd-xi-kingstonian-cc/
LOCATION:Old Tiffinians
CATEGORIES:Senior Fixtures
END:VEVENT
BEGIN:VEVENT
DTSTART;TZID=Europe/London:20190706T130000
DTEND;TZID=Europe/London:20190706T130000
DTSTAMP:20260425T134024
CREATED:20190313T215853Z
LAST-MODIFIED:20190501T051046Z
UID:2722-1562418000-1562418000@www.thamesdittoncricketclub.co.uk
SUMMARY:1st XI - Chaldon CMO CC
DESCRIPTION:Type: League: Surrey County League – 1st XI Premier 2019
URL:https://www.thamesdittoncricketclub.co.uk/event/1st-xi-chaldon-cmo-cc-2/
LOCATION:TDCC\, Giggs Hill Rd\, Thames Ditton\, Surrey\, KT7 0BT
CATEGORIES:1st XI,Senior Fixtures
END:VEVENT
BEGIN:VEVENT
DTSTART;TZID=Europe/London:20190706T120000
DTEND;TZID=Europe/London:20190706T120000
DTSTAMP:20260425T134024
CREATED:20190314T220340Z
LAST-MODIFIED:20190314T221954Z
UID:2769-1562414400-1562414400@www.thamesdittoncricketclub.co.uk
SUMMARY:2nd XI - SinjunGrammarians CC
DESCRIPTION:Type: League: Surrey Championship – Division 5 – 2nd XI 2019
URL:https://www.thamesdittoncricketclub.co.uk/event/2nd-xi-mitcham-cc/
LOCATION:Trinity Fields Playing Fields\, 209 Trinity Road Tooting\, London\, SW17 7HW
CATEGORIES:Senior Fixtures
END:VEVENT
BEGIN:VEVENT
DTSTART;TZID=Europe/London:20190705T180000
DTEND;TZID=Europe/London:20190705T180000
DTSTAMP:20260425T134024
CREATED:20190418T133936Z
LAST-MODIFIED:20190418T133936Z
UID:3116-1562349600-1562349600@www.thamesdittoncricketclub.co.uk
SUMMARY:U13 WSYCL - Whiteley Village CC
DESCRIPTION:League: West Surrey Youth Cricket League – Under 13 WSYCL North East 2019
URL:https://www.thamesdittoncricketclub.co.uk/event/u13-wsycl-whiteley-village-cc-2/
LOCATION:Whiteley Village Cricket Ground\, Coombe Lane\, Whiteley Village\, Surrey
CATEGORIES:Colts Fixtures
END:VEVENT
BEGIN:VEVENT
DTSTART;TZID=Europe/London:20190704T180000
DTEND;TZID=Europe/London:20190704T180000
DTSTAMP:20260425T134024
CREATED:20190429T102634Z
LAST-MODIFIED:20190429T102634Z
UID:3162-1562263200-1562263200@www.thamesdittoncricketclub.co.uk
SUMMARY:U12 WSYCL - Weybridge CC
DESCRIPTION:League: West Surrey Youth Cricket League – Under 12 WSYCL North 2019
URL:https://www.thamesdittoncricketclub.co.uk/event/u12-wsycl-weybridge-cc/
LOCATION:TDCC\, Giggs Hill Rd\, Thames Ditton\, Surrey\, KT7 0BT
CATEGORIES:Colts Fixtures
END:VEVENT
BEGIN:VEVENT
DTSTART;TZID=Europe/London:20190629T130000
DTEND;TZID=Europe/London:20190629T130000
DTSTAMP:20260425T134024
CREATED:20190317T224306Z
LAST-MODIFIED:20190317T224306Z
UID:2894-1561813200-1561813200@www.thamesdittoncricketclub.co.uk
SUMMARY:4th XI - Egham CC
DESCRIPTION:League: Surrey Championship – Division 5 West 2019
URL:https://www.thamesdittoncricketclub.co.uk/event/4th-xi-egham-cc/
LOCATION:Surrey
CATEGORIES:Senior Fixtures
END:VEVENT
BEGIN:VEVENT
DTSTART;TZID=Europe/London:20190629T130000
DTEND;TZID=Europe/London:20190629T130000
DTSTAMP:20260425T134024
CREATED:20190316T124824Z
LAST-MODIFIED:20190316T124824Z
UID:2818-1561813200-1561813200@www.thamesdittoncricketclub.co.uk
SUMMARY:3rd XI - Ripley CC
DESCRIPTION:League: Surrey Championship – Division 3 West 2019
URL:https://www.thamesdittoncricketclub.co.uk/event/3rd-xi-ripley-cc/
LOCATION:Old Tiffinians
CATEGORIES:Senior Fixtures
END:VEVENT
BEGIN:VEVENT
DTSTART;TZID=Europe/London:20190629T130000
DTEND;TZID=Europe/London:20190629T130000
DTSTAMP:20260425T134024
CREATED:20190313T215318Z
LAST-MODIFIED:20190501T051053Z
UID:2720-1561813200-1561813200@www.thamesdittoncricketclub.co.uk
SUMMARY:1st XI - Wandgas CC
DESCRIPTION:Type: League: Surrey County League – 1st XI Premier 2019
URL:https://www.thamesdittoncricketclub.co.uk/event/1st-xi-wandgas-cc/
LOCATION:Surrey
CATEGORIES:1st XI,Senior Fixtures
END:VEVENT
BEGIN:VEVENT
DTSTART;TZID=Europe/London:20190629T120000
DTEND;TZID=Europe/London:20190629T120000
DTSTAMP:20260425T134024
CREATED:20190314T220803Z
LAST-MODIFIED:20190314T222238Z
UID:2771-1561809600-1561809600@www.thamesdittoncricketclub.co.uk
SUMMARY:2nd XI - Mitcham CC
DESCRIPTION:Type: League: Surrey Championship – Division 5 – 2nd XI 2019
URL:https://www.thamesdittoncricketclub.co.uk/event/2nd-xi-mitcham-cc-2/
LOCATION:TDCC\, Giggs Hill Rd\, Thames Ditton\, Surrey\, KT7 0BT
CATEGORIES:Senior Fixtures
END:VEVENT
BEGIN:VEVENT
DTSTART;TZID=Europe/London:20190628T180000
DTEND;TZID=Europe/London:20190628T180000
DTSTAMP:20260425T134024
CREATED:20190418T133317Z
LAST-MODIFIED:20190418T133317Z
UID:3114-1561744800-1561744800@www.thamesdittoncricketclub.co.uk
SUMMARY:U13 WSYCL - Weybridge CC Under 14 Girls White
DESCRIPTION:League: West Surrey Youth Cricket League – Under 13 WSYCL North East 2019
URL:https://www.thamesdittoncricketclub.co.uk/event/u13-wsycl-weybridge-cc-under-14-girls-white-2/
LOCATION:TDCC\, Giggs Hill Rd\, Thames Ditton\, Surrey\, KT7 0BT
CATEGORIES:Colts Fixtures
END:VEVENT
BEGIN:VEVENT
DTSTART;TZID=Europe/London:20190623T100000
DTEND;TZID=Europe/London:20190623T100000
DTSTAMP:20260425T134024
CREATED:20190418T133139Z
LAST-MODIFIED:20190418T133139Z
UID:3111-1561284000-1561284000@www.thamesdittoncricketclub.co.uk
SUMMARY:U13 WSYCL - Ewell CC
DESCRIPTION:League: West Surrey Youth Cricket League – Under 13 WSYCL North East 2019
URL:https://www.thamesdittoncricketclub.co.uk/event/u13-wsycl-ewell-cc-2/
LOCATION:Ruxley Lane\, 27 Ruxley Lane\, Ewell\, KT19 0JB
CATEGORIES:Colts Fixtures
END:VEVENT
BEGIN:VEVENT
DTSTART;TZID=Europe/London:20190623T093000
DTEND;TZID=Europe/London:20190623T093000
DTSTAMP:20260425T134024
CREATED:20190418T135000Z
LAST-MODIFIED:20190418T135000Z
UID:3128-1561282200-1561282200@www.thamesdittoncricketclub.co.uk
SUMMARY:U13 Development - West End (Esher) CC
DESCRIPTION:League: West Surrey Youth Cricket League – Under 13 Development North 2019
URL:https://www.thamesdittoncricketclub.co.uk/event/u13-development-west-end-esher-cc/
LOCATION:West End (Esher) C.C.\, The Pavillion\, West End Lane\, West End\, KT10 8LF
CATEGORIES:Colts Fixtures
END:VEVENT
BEGIN:VEVENT
DTSTART;TZID=Europe/London:20190622T130000
DTEND;TZID=Europe/London:20190622T130000
DTSTAMP:20260425T134024
CREATED:20190317T224207Z
LAST-MODIFIED:20190317T224207Z
UID:2892-1561208400-1561208400@www.thamesdittoncricketclub.co.uk
SUMMARY:4th XI - Ashford CC
DESCRIPTION:League: Surrey Championship – Division 5 West 2019
URL:https://www.thamesdittoncricketclub.co.uk/event/4th-xi-ashford-cc/
LOCATION:Old Paulines\, St Nicholas Road\, Thames Ditton\, Surrey\, KT7 0PW
CATEGORIES:Senior Fixtures
END:VEVENT
BEGIN:VEVENT
DTSTART;TZID=Europe/London:20190622T130000
DTEND;TZID=Europe/London:20190622T130000
DTSTAMP:20260425T134024
CREATED:20190316T091518Z
LAST-MODIFIED:20190316T091518Z
UID:2815-1561208400-1561208400@www.thamesdittoncricketclub.co.uk
SUMMARY:3rd XI - Chessington CC
DESCRIPTION:League: Surrey Championship – Division 3 West 2019
URL:https://www.thamesdittoncricketclub.co.uk/event/3rd-xi-chessington-cc/
LOCATION:Sir Francis Barker Ground\, Leatherhead Road\, Chessington\, Surrey\, KT9 2NB
CATEGORIES:Senior Fixtures
END:VEVENT
BEGIN:VEVENT
DTSTART;TZID=Europe/London:20190622T130000
DTEND;TZID=Europe/London:20190622T130000
DTSTAMP:20260425T134024
CREATED:20190313T214740Z
LAST-MODIFIED:20190501T051100Z
UID:2718-1561208400-1561208400@www.thamesdittoncricketclub.co.uk
SUMMARY:1st Xl - Newdigate CC\, Surrey
DESCRIPTION:League: Surrey County League – 1st XI Premier 2019
URL:https://www.thamesdittoncricketclub.co.uk/event/1st-xl-newdigate-cc-surrey/
LOCATION:TDCC\, Giggs Hill Rd\, Thames Ditton\, Surrey\, KT7 0BT
CATEGORIES:1st XI,Senior Fixtures
END:VEVENT
BEGIN:VEVENT
DTSTART;TZID=Europe/London:20190622T120000
DTEND;TZID=Europe/London:20190622T120000
DTSTAMP:20260425T134024
CREATED:20190314T220133Z
LAST-MODIFIED:20190314T220133Z
UID:2766-1561204800-1561204800@www.thamesdittoncricketclub.co.uk
SUMMARY:2nd XI - Battersea Ironsides CC
DESCRIPTION:Type: League: Surrey Championship – Division 5 – 2nd XI 2019
URL:https://www.thamesdittoncricketclub.co.uk/event/2nd-xi-battersea-ironsides-cc/
LOCATION:Battersea Ironsides\, Battersea Ironsides Sports Club\, Burntwood Lane\, Earlsfield\, SW17 0AW
CATEGORIES:Senior Fixtures
END:VEVENT
BEGIN:VEVENT
DTSTART;TZID=Europe/London:20190618T180000
DTEND;TZID=Europe/London:20190618T180000
DTSTAMP:20260425T134024
CREATED:20190429T102517Z
LAST-MODIFIED:20190429T102517Z
UID:3159-1560880800-1560880800@www.thamesdittoncricketclub.co.uk
SUMMARY:U12 WSYCL - Valley End CC
DESCRIPTION:League: West Surrey Youth Cricket League – Under 12 WSYCL North 2019
URL:https://www.thamesdittoncricketclub.co.uk/event/u12-wsycl-valley-end-cc/
LOCATION:VECC – Woodlands Lane Upper\, Valley End Cricket Club\, Windlesham Road\, Chobham\, GU24 8SN
CATEGORIES:Colts Fixtures
END:VEVENT
BEGIN:VEVENT
DTSTART;TZID=Europe/London:20190615T130000
DTEND;TZID=Europe/London:20190615T130000
DTSTAMP:20260425T134024
CREATED:20190317T224101Z
LAST-MODIFIED:20190317T224101Z
UID:2889-1560603600-1560603600@www.thamesdittoncricketclub.co.uk
SUMMARY:4th XI - Hampton Wick Royal CC
DESCRIPTION:League: Surrey Championship – Division 5 West 2019
URL:https://www.thamesdittoncricketclub.co.uk/event/4th-xi-hampton-wick-royal-cc/
LOCATION:King’s Field (Hampton Wick Royal Cricket Club)\, Park Road\, Hampton Wick\, Surrey\, KT1 4AZ
CATEGORIES:Senior Fixtures
END:VEVENT
BEGIN:VEVENT
DTSTART;TZID=Europe/London:20190615T130000
DTEND;TZID=Europe/London:20190615T130000
DTSTAMP:20260425T134024
CREATED:20190316T090619Z
LAST-MODIFIED:20190316T090619Z
UID:2812-1560603600-1560603600@www.thamesdittoncricketclub.co.uk
SUMMARY:3rd XI - Byfleet CC
DESCRIPTION:League: Surrey Championship – Division 3 West 2019
URL:https://www.thamesdittoncricketclub.co.uk/event/3rd-xi-byfleet-cc/
LOCATION:Surrey
CATEGORIES:Senior Fixtures
END:VEVENT
BEGIN:VEVENT
DTSTART;TZID=Europe/London:20190615T130000
DTEND;TZID=Europe/London:20190615T130000
DTSTAMP:20260425T134024
CREATED:20190313T214433Z
LAST-MODIFIED:20190501T051230Z
UID:2716-1560603600-1560603600@www.thamesdittoncricketclub.co.uk
SUMMARY:1st XI - Battersea Ironsides CC
DESCRIPTION:Type: League: Surrey County League – 1st XI Premier 2019
URL:https://www.thamesdittoncricketclub.co.uk/event/1st-xi-battersea-ironsides-cc/
LOCATION:Surrey
CATEGORIES:1st XI,Senior Fixtures
END:VEVENT
END:VCALENDAR