BEGIN:VCALENDAR
VERSION:2.0
PRODID:-//Thames Ditton Cricket Club - ECPv6.11.0.1//NONSGML v1.0//EN
CALSCALE:GREGORIAN
METHOD:PUBLISH
X-ORIGINAL-URL:https://www.thamesdittoncricketclub.co.uk
X-WR-CALDESC:Events for Thames Ditton Cricket Club
REFRESH-INTERVAL;VALUE=DURATION:PT1H
X-Robots-Tag:noindex
X-PUBLISHED-TTL:PT1H
BEGIN:VTIMEZONE
TZID:Europe/London
BEGIN:DAYLIGHT
TZOFFSETFROM:+0000
TZOFFSETTO:+0100
TZNAME:BST
DTSTART:20190331T010000
END:DAYLIGHT
BEGIN:STANDARD
TZOFFSETFROM:+0100
TZOFFSETTO:+0000
TZNAME:GMT
DTSTART:20191027T010000
END:STANDARD
END:VTIMEZONE
BEGIN:VEVENT
DTSTART;TZID=Europe/London:20190511T130000
DTEND;TZID=Europe/London:20190511T130000
DTSTAMP:20260426T003905
CREATED:20190316T085536Z
LAST-MODIFIED:20190316T085536Z
UID:2799-1557579600-1557579600@www.thamesdittoncricketclub.co.uk
SUMMARY:3rd XI - Kempton CC
DESCRIPTION:League: Surrey Championship – Division 3 West 2019
URL:https://www.thamesdittoncricketclub.co.uk/event/3rd-xi-kempton-cc/
LOCATION:Old Tiffinians
CATEGORIES:Senior Fixtures
END:VEVENT
BEGIN:VEVENT
DTSTART;TZID=Europe/London:20190511T130000
DTEND;TZID=Europe/London:20190511T130000
DTSTAMP:20260426T003905
CREATED:20190121T161139Z
LAST-MODIFIED:20190501T051140Z
UID:2205-1557579600-1557579600@www.thamesdittoncricketclub.co.uk
SUMMARY:1st XI - Godalming CC
DESCRIPTION:Type: League: Surrey County League – 1st XI Premier 2019
URL:https://www.thamesdittoncricketclub.co.uk/event/1st-xi-godalming-cc/
LOCATION:Holloway Hill\, Busbridge Lane\, Surrey\, GU7 1QD
CATEGORIES:1st XI,Senior Fixtures
END:VEVENT
BEGIN:VEVENT
DTSTART;TZID=Europe/London:20190511T120000
DTEND;TZID=Europe/London:20190511T120000
DTSTAMP:20260426T003905
CREATED:20190314T205006Z
LAST-MODIFIED:20190314T205006Z
UID:2748-1557576000-1557576000@www.thamesdittoncricketclub.co.uk
SUMMARY:2nd XI - Hampton Hill CC
DESCRIPTION:Type: League: Surrey Championship – Division 5 – 2nd XI 2019
URL:https://www.thamesdittoncricketclub.co.uk/event/2nd-xi-hampton-hill-cc/
LOCATION:TDCC\, Giggs Hill Rd\, Thames Ditton\, Surrey\, KT7 0BT
CATEGORIES:Senior Fixtures
END:VEVENT
BEGIN:VEVENT
DTSTART;TZID=Europe/London:20190510T180000
DTEND;TZID=Europe/London:20190510T180000
DTSTAMP:20260426T003905
CREATED:20190429T134941Z
LAST-MODIFIED:20190429T135500Z
UID:3173-1557511200-1557511200@www.thamesdittoncricketclub.co.uk
SUMMARY:U12 Development - Claygate CC
DESCRIPTION:League: West Surrey Youth Cricket League – Under 12 Development North East 2019
URL:https://www.thamesdittoncricketclub.co.uk/event/u12-development-claygate-cc/
LOCATION:Claygate Cricket Club\, Claygate Recreation Ground\, Church Road\, Claygate\, KT10 0JP
CATEGORIES:Colts Fixtures
END:VEVENT
BEGIN:VEVENT
DTSTART;TZID=Europe/London:20190504T130000
DTEND;TZID=Europe/London:20190504T130000
DTSTAMP:20260426T003905
CREATED:20190121T155829Z
LAST-MODIFIED:20190501T051248Z
UID:2193-1556974800-1556974800@www.thamesdittoncricketclub.co.uk
SUMMARY:1st XI - Chaldon CMO CC
DESCRIPTION:Type: League: Surrey County League – 1st XI Premier 2019
URL:https://www.thamesdittoncricketclub.co.uk/event/1st-xi-chaldon-cmo-cc/
LOCATION:Middlesex
CATEGORIES:1st XI,Senior Fixtures
END:VEVENT
BEGIN:VEVENT
DTSTART;TZID=Europe/London:20190427T130000
DTEND;TZID=Europe/London:20190427T130000
DTSTAMP:20260426T003905
CREATED:20190303T222002Z
LAST-MODIFIED:20190314T204632Z
UID:2612-1556370000-1556370000@www.thamesdittoncricketclub.co.uk
SUMMARY:2nd XI - Shepperton CC
DESCRIPTION:Type: Friendly
URL:https://www.thamesdittoncricketclub.co.uk/event/2nd-xi-shepperton-cc/
LOCATION:Shepperton C.C.\, Manor Park\, Russell Road\, Shepperton\, Middlesex\, TW17 9HQ
CATEGORIES:Senior Fixtures
END:VEVENT
BEGIN:VEVENT
DTSTART;TZID=Europe/London:20190427T130000
DTEND;TZID=Europe/London:20190427T130000
DTSTAMP:20260426T003905
CREATED:20190121T155511Z
LAST-MODIFIED:20190501T051255Z
UID:2191-1556370000-1556370000@www.thamesdittoncricketclub.co.uk
SUMMARY:1st XI - Morden CC
DESCRIPTION:Type: Friendly
URL:https://www.thamesdittoncricketclub.co.uk/event/1st-xi-morden-cc/
LOCATION:TDCC\, Giggs Hill Rd\, Thames Ditton\, Surrey\, KT7 0BT
CATEGORIES:1st XI,Senior Fixtures
END:VEVENT
BEGIN:VEVENT
DTSTART;TZID=Europe/London:20190420T130000
DTEND;TZID=Europe/London:20190420T130000
DTSTAMP:20260426T003905
CREATED:20181207T160854Z
LAST-MODIFIED:20190501T051302Z
UID:1458-1555765200-1555765200@www.thamesdittoncricketclub.co.uk
SUMMARY:1st XI - Shepperton CC
DESCRIPTION:Type: Friendly
URL:https://www.thamesdittoncricketclub.co.uk/event/1st-xi-shepperton-cc/
LOCATION:Shepperton C.C.\, Manor Park\, Russell Road\, Shepperton\, Middlesex\, TW17 9HQ
CATEGORIES:1st XI,Senior Fixtures
END:VEVENT
BEGIN:VEVENT
DTSTART;TZID=Europe/London:20190413T130000
DTEND;TZID=Europe/London:20190413T130000
DTSTAMP:20260426T003905
CREATED:20190115T161533Z
LAST-MODIFIED:20190314T204539Z
UID:2031-1555160400-1555160400@www.thamesdittoncricketclub.co.uk
SUMMARY:2nd XI - Long Ditton CC
DESCRIPTION:Type: Friendly
URL:https://www.thamesdittoncricketclub.co.uk/event/2nd-xi-long-ditton-cc/
LOCATION:TDCC\, Giggs Hill Rd\, Thames Ditton\, Surrey\, KT7 0BT
CATEGORIES:Senior Fixtures
END:VEVENT
END:VCALENDAR