BEGIN:VCALENDAR
VERSION:2.0
PRODID:-//Thames Ditton Cricket Club - ECPv6.11.0.1//NONSGML v1.0//EN
CALSCALE:GREGORIAN
METHOD:PUBLISH
X-WR-CALNAME:Thames Ditton Cricket Club
X-ORIGINAL-URL:https://www.thamesdittoncricketclub.co.uk
X-WR-CALDESC:Events for Thames Ditton Cricket Club
REFRESH-INTERVAL;VALUE=DURATION:PT1H
X-Robots-Tag:noindex
X-PUBLISHED-TTL:PT1H
BEGIN:VTIMEZONE
TZID:Europe/London
BEGIN:DAYLIGHT
TZOFFSETFROM:+0000
TZOFFSETTO:+0100
TZNAME:BST
DTSTART:20190331T010000
END:DAYLIGHT
BEGIN:STANDARD
TZOFFSETFROM:+0100
TZOFFSETTO:+0000
TZNAME:GMT
DTSTART:20191027T010000
END:STANDARD
END:VTIMEZONE
BEGIN:VEVENT
DTSTART;TZID=Europe/London:20190622T130000
DTEND;TZID=Europe/London:20190622T130000
DTSTAMP:20260425T115413
CREATED:20190313T214740Z
LAST-MODIFIED:20190501T051100Z
UID:2718-1561208400-1561208400@www.thamesdittoncricketclub.co.uk
SUMMARY:1st Xl - Newdigate CC\, Surrey
DESCRIPTION:League: Surrey County League – 1st XI Premier 2019
URL:https://www.thamesdittoncricketclub.co.uk/event/1st-xl-newdigate-cc-surrey/
LOCATION:TDCC\, Giggs Hill Rd\, Thames Ditton\, Surrey\, KT7 0BT
CATEGORIES:1st XI,Senior Fixtures
END:VEVENT
BEGIN:VEVENT
DTSTART;TZID=Europe/London:20190615T130000
DTEND;TZID=Europe/London:20190615T130000
DTSTAMP:20260425T115413
CREATED:20190313T214433Z
LAST-MODIFIED:20190501T051230Z
UID:2716-1560603600-1560603600@www.thamesdittoncricketclub.co.uk
SUMMARY:1st XI - Battersea Ironsides CC
DESCRIPTION:Type: League: Surrey County League – 1st XI Premier 2019
URL:https://www.thamesdittoncricketclub.co.uk/event/1st-xi-battersea-ironsides-cc/
LOCATION:Surrey
CATEGORIES:1st XI,Senior Fixtures
END:VEVENT
BEGIN:VEVENT
DTSTART;TZID=Europe/London:20190608T130000
DTEND;TZID=Europe/London:20190608T130000
DTSTAMP:20260425T115413
CREATED:20190313T214201Z
LAST-MODIFIED:20190501T051113Z
UID:2714-1559998800-1559998800@www.thamesdittoncricketclub.co.uk
SUMMARY:1st XI - Lingfield CC
DESCRIPTION:Type: League: Surrey County League – 1st XI Premier 2019
URL:https://www.thamesdittoncricketclub.co.uk/event/1st-xi-lingfield-cc/
LOCATION:TDCC\, Giggs Hill Rd\, Thames Ditton\, Surrey\, KT7 0BT
CATEGORIES:1st XI,Senior Fixtures
END:VEVENT
BEGIN:VEVENT
DTSTART;TZID=Europe/London:20190601T130000
DTEND;TZID=Europe/London:20190601T130000
DTSTAMP:20260425T115413
CREATED:20190313T213320Z
LAST-MODIFIED:20190501T051119Z
UID:2706-1559394000-1559394000@www.thamesdittoncricketclub.co.uk
SUMMARY:1st XI - Merrow CC
DESCRIPTION:Type: League: Surrey County League – 1st XI Premier 2019
URL:https://www.thamesdittoncricketclub.co.uk/event/1st-xi-merrow-cc/
LOCATION:TDCC\, Giggs Hill Rd\, Thames Ditton\, Surrey\, KT7 0BT
CATEGORIES:1st XI,Senior Fixtures
END:VEVENT
BEGIN:VEVENT
DTSTART;TZID=Europe/London:20190525T130000
DTEND;TZID=Europe/London:20190525T130000
DTSTAMP:20260425T115413
CREATED:20190313T212830Z
LAST-MODIFIED:20190501T051126Z
UID:2697-1558789200-1558789200@www.thamesdittoncricketclub.co.uk
SUMMARY:1st XI - Long Ditton CC
DESCRIPTION:
URL:https://www.thamesdittoncricketclub.co.uk/event/1st-xi-long-ditton-cc/
LOCATION:Long Ditton CC\, Stokes Field\, Betts Way\, Long Ditton\, Long Ditton\, KT6 5HT
CATEGORIES:1st XI,Senior Fixtures
END:VEVENT
BEGIN:VEVENT
DTSTART;TZID=Europe/London:20190518T130000
DTEND;TZID=Europe/London:20190518T130000
DTSTAMP:20260425T115413
CREATED:20190121T161308Z
LAST-MODIFIED:20190501T051133Z
UID:2208-1558184400-1558184400@www.thamesdittoncricketclub.co.uk
SUMMARY:1st XI -  Guildford City CC
DESCRIPTION:Type: League: Surrey County League – 1st XI Premier 2019
URL:https://www.thamesdittoncricketclub.co.uk/event/1st-xi-guildford-city-cc/
LOCATION:TDCC\, Giggs Hill Rd\, Thames Ditton\, Surrey\, KT7 0BT
CATEGORIES:1st XI,Senior Fixtures
END:VEVENT
BEGIN:VEVENT
DTSTART;TZID=Europe/London:20190511T130000
DTEND;TZID=Europe/London:20190511T130000
DTSTAMP:20260425T115413
CREATED:20190121T161139Z
LAST-MODIFIED:20190501T051140Z
UID:2205-1557579600-1557579600@www.thamesdittoncricketclub.co.uk
SUMMARY:1st XI - Godalming CC
DESCRIPTION:Type: League: Surrey County League – 1st XI Premier 2019
URL:https://www.thamesdittoncricketclub.co.uk/event/1st-xi-godalming-cc/
LOCATION:Holloway Hill\, Busbridge Lane\, Surrey\, GU7 1QD
CATEGORIES:1st XI,Senior Fixtures
END:VEVENT
BEGIN:VEVENT
DTSTART;TZID=Europe/London:20190504T130000
DTEND;TZID=Europe/London:20190504T130000
DTSTAMP:20260425T115413
CREATED:20190121T155829Z
LAST-MODIFIED:20190501T051248Z
UID:2193-1556974800-1556974800@www.thamesdittoncricketclub.co.uk
SUMMARY:1st XI - Chaldon CMO CC
DESCRIPTION:Type: League: Surrey County League – 1st XI Premier 2019
URL:https://www.thamesdittoncricketclub.co.uk/event/1st-xi-chaldon-cmo-cc/
LOCATION:Surrey
CATEGORIES:1st XI,Senior Fixtures
END:VEVENT
BEGIN:VEVENT
DTSTART;TZID=Europe/London:20190427T130000
DTEND;TZID=Europe/London:20190427T130000
DTSTAMP:20260425T115413
CREATED:20190121T155511Z
LAST-MODIFIED:20190501T051255Z
UID:2191-1556370000-1556370000@www.thamesdittoncricketclub.co.uk
SUMMARY:1st XI - Morden CC
DESCRIPTION:Type: Friendly
URL:https://www.thamesdittoncricketclub.co.uk/event/1st-xi-morden-cc/
LOCATION:TDCC\, Giggs Hill Rd\, Thames Ditton\, Surrey\, KT7 0BT
CATEGORIES:1st XI,Senior Fixtures
END:VEVENT
BEGIN:VEVENT
DTSTART;TZID=Europe/London:20190420T130000
DTEND;TZID=Europe/London:20190420T130000
DTSTAMP:20260425T115413
CREATED:20181207T160854Z
LAST-MODIFIED:20190501T051302Z
UID:1458-1555765200-1555765200@www.thamesdittoncricketclub.co.uk
SUMMARY:1st XI - Shepperton CC
DESCRIPTION:Type: Friendly
URL:https://www.thamesdittoncricketclub.co.uk/event/1st-xi-shepperton-cc/
LOCATION:Shepperton C.C.\, Manor Park\, Russell Road\, Shepperton\, Middlesex\, TW17 9HQ
CATEGORIES:1st XI,Senior Fixtures
END:VEVENT
END:VCALENDAR